BEGIN:VCALENDAR
VERSION:2.0
PRODID:-//Gemeindebücherei Dinkelscherben - ECPv6.15.20//NONSGML v1.0//EN
CALSCALE:GREGORIAN
METHOD:PUBLISH
X-ORIGINAL-URL:https://gemeindebuecherei.de
X-WR-CALDESC:Veranstaltungen für Gemeindebücherei Dinkelscherben
REFRESH-INTERVAL;VALUE=DURATION:PT1H
X-Robots-Tag:noindex
X-PUBLISHED-TTL:PT1H
BEGIN:VTIMEZONE
TZID:Europe/Berlin
BEGIN:DAYLIGHT
TZOFFSETFROM:+0100
TZOFFSETTO:+0200
TZNAME:CEST
DTSTART:20240331T010000
END:DAYLIGHT
BEGIN:STANDARD
TZOFFSETFROM:+0200
TZOFFSETTO:+0100
TZNAME:CET
DTSTART:20241027T010000
END:STANDARD
BEGIN:DAYLIGHT
TZOFFSETFROM:+0100
TZOFFSETTO:+0200
TZNAME:CEST
DTSTART:20250330T010000
END:DAYLIGHT
BEGIN:STANDARD
TZOFFSETFROM:+0200
TZOFFSETTO:+0100
TZNAME:CET
DTSTART:20251026T010000
END:STANDARD
BEGIN:DAYLIGHT
TZOFFSETFROM:+0100
TZOFFSETTO:+0200
TZNAME:CEST
DTSTART:20260329T010000
END:DAYLIGHT
BEGIN:STANDARD
TZOFFSETFROM:+0200
TZOFFSETTO:+0100
TZNAME:CET
DTSTART:20261025T010000
END:STANDARD
END:VTIMEZONE
BEGIN:VEVENT
DTSTART;TZID=Europe/Berlin:20251224T150000
DTEND;TZID=Europe/Berlin:20251224T160000
DTSTAMP:20260420T202415
CREATED:20251125T215857Z
LAST-MODIFIED:20251206T092641Z
UID:3703-1766588400-1766592000@gemeindebuecherei.de
SUMMARY:Wann ist endlich Bescherung?!
DESCRIPTION:Mit weihnachtlichen Geschichten wollen wir auch heuer wieder die aufregende Zeit vor der Bescherung verkürzen… \nFür alle Kinder ab 3 Jahren.
URL:https://gemeindebuecherei.de/event/wann-ist-endlich-bescherung-2/
LOCATION:Bücherei\, Auer Kirchweg 2\, Dinkelscherben\, 86424\, Germany
CATEGORIES:Vorlesen
ATTACH;FMTTYPE=image/png:https://gemeindebuecherei.de/wp-content/uploads/2025/11/2025-12-24-Blaettle-Vorlesen-Weihnachten-e1765013029871.png
END:VEVENT
END:VCALENDAR